BEGIN:VCALENDAR
VERSION:2.0
PRODID:-//Fort Worth Mortgage Bankers Association (FWMBA) - ECPv6.15.20//NONSGML v1.0//EN
CALSCALE:GREGORIAN
METHOD:PUBLISH
X-WR-CALNAME:Fort Worth Mortgage Bankers Association (FWMBA)
X-ORIGINAL-URL:https://fortworthmba.org
X-WR-CALDESC:Events for Fort Worth Mortgage Bankers Association (FWMBA)
REFRESH-INTERVAL;VALUE=DURATION:PT1H
X-Robots-Tag:noindex
X-PUBLISHED-TTL:PT1H
BEGIN:VTIMEZONE
TZID:America/Chicago
BEGIN:DAYLIGHT
TZOFFSETFROM:-0600
TZOFFSETTO:-0500
TZNAME:CDT
DTSTART:20250309T080000
END:DAYLIGHT
BEGIN:STANDARD
TZOFFSETFROM:-0500
TZOFFSETTO:-0600
TZNAME:CST
DTSTART:20251102T070000
END:STANDARD
BEGIN:DAYLIGHT
TZOFFSETFROM:-0600
TZOFFSETTO:-0500
TZNAME:CDT
DTSTART:20260308T080000
END:DAYLIGHT
BEGIN:STANDARD
TZOFFSETFROM:-0500
TZOFFSETTO:-0600
TZNAME:CST
DTSTART:20261101T070000
END:STANDARD
BEGIN:DAYLIGHT
TZOFFSETFROM:-0600
TZOFFSETTO:-0500
TZNAME:CDT
DTSTART:20270314T080000
END:DAYLIGHT
BEGIN:STANDARD
TZOFFSETFROM:-0500
TZOFFSETTO:-0600
TZNAME:CST
DTSTART:20271107T070000
END:STANDARD
END:VTIMEZONE
BEGIN:VEVENT
DTSTART;TZID=America/Chicago:20260114T113000
DTEND;TZID=America/Chicago:20260114T130000
DTSTAMP:20260424T085222
CREATED:20250807T133641Z
LAST-MODIFIED:20260105T184213Z
UID:3305-1768390200-1768395600@fortworthmba.org
SUMMARY:January Luncheon - 1/14
DESCRIPTION:Dawn Robinson is a Regional Sales Manager at PrimeLending\, overseeing Texas\, New Mexico\, and Arizona. Recognized as one of Dallas’ Top 50 Women Leaders\, Dawn is known for her people-first leadership approach and her focus on building strong realtor\, builder\, and client partnerships. She also serves on the NAHREP Mountain Region Board of Governors\, helping advance leadership and growth across the mortgage industry. \nFWMBA Luncheon (ME) \n \nFWMBA Luncheon (NME)
URL:https://fortworthmba.org/event/january-luncheon-1-14/
LOCATION:Joe T Garcia’s\, 220 N Commerce St\, Fort Worth\, TX\, 76164\, United States
CATEGORIES:Home Featured
ATTACH;FMTTYPE=image/jpeg:https://fortworthmba.org/wp-content/uploads/2025/08/Dawn-R-Headshot-e1767638523894.jpg
ORGANIZER;CN="Fort Worth Mortgage Bankers Association":MAILTO:info@fortworthmba.org
END:VEVENT
BEGIN:VEVENT
DTSTART;TZID=America/Chicago:20260129T170000
DTEND;TZID=America/Chicago:20260129T190000
DTSTAMP:20260424T085222
CREATED:20250807T133800Z
LAST-MODIFIED:20260116T155734Z
UID:3307-1769706000-1769713200@fortworthmba.org
SUMMARY:FWMBA HAPPY HOUR - 1/29
DESCRIPTION:Join the Fort Worth Mortgage Bankers Association for a relaxed and engaging happy hour networking event on January 29th at Firebirds Wood Fired Grill. \nThis informal gathering is a great opportunity to connect with fellow mortgage professionals\, industry partners\, and local leaders in a comfortable setting. Enjoy great conversation\, handcrafted cocktails\, and fire-grilled favorites while building relationships outside of the boardroom. \nWhether you’re looking to expand your network\, catch up with colleagues\, or simply unwind after the workday\, this event offers the perfect atmosphere to do it. We look forward to seeing you there. \n  \n\n 
URL:https://fortworthmba.org/event/fwmba-happy-hour-1-29/
LOCATION:Firebirds Wood Fired Grill\, 2900 Amador Drive\, Fort Worth\, 76177\, United States
CATEGORIES:Home Featured
ATTACH;FMTTYPE=image/jpeg:https://fortworthmba.org/wp-content/uploads/2022/06/fwmba.jpg
ORGANIZER;CN="Fort Worth Mortgage Bankers Association":MAILTO:info@fortworthmba.org
END:VEVENT
END:VCALENDAR