BEGIN:VCALENDAR
VERSION:2.0
PRODID:-//Fort Worth Mortgage Bankers Association (FWMBA) - ECPv6.15.20//NONSGML v1.0//EN
CALSCALE:GREGORIAN
METHOD:PUBLISH
X-WR-CALNAME:Fort Worth Mortgage Bankers Association (FWMBA)
X-ORIGINAL-URL:https://fortworthmba.org
X-WR-CALDESC:Events for Fort Worth Mortgage Bankers Association (FWMBA)
REFRESH-INTERVAL;VALUE=DURATION:PT1H
X-Robots-Tag:noindex
X-PUBLISHED-TTL:PT1H
BEGIN:VTIMEZONE
TZID:America/Chicago
BEGIN:DAYLIGHT
TZOFFSETFROM:-0600
TZOFFSETTO:-0500
TZNAME:CDT
DTSTART:20240310T080000
END:DAYLIGHT
BEGIN:STANDARD
TZOFFSETFROM:-0500
TZOFFSETTO:-0600
TZNAME:CST
DTSTART:20241103T070000
END:STANDARD
BEGIN:DAYLIGHT
TZOFFSETFROM:-0600
TZOFFSETTO:-0500
TZNAME:CDT
DTSTART:20250309T080000
END:DAYLIGHT
BEGIN:STANDARD
TZOFFSETFROM:-0500
TZOFFSETTO:-0600
TZNAME:CST
DTSTART:20251102T070000
END:STANDARD
BEGIN:DAYLIGHT
TZOFFSETFROM:-0600
TZOFFSETTO:-0500
TZNAME:CDT
DTSTART:20260308T080000
END:DAYLIGHT
BEGIN:STANDARD
TZOFFSETFROM:-0500
TZOFFSETTO:-0600
TZNAME:CST
DTSTART:20261101T070000
END:STANDARD
END:VTIMEZONE
BEGIN:VEVENT
DTSTART;TZID=America/Chicago:20251016T170000
DTEND;TZID=America/Chicago:20251016T190000
DTSTAMP:20260424T113212
CREATED:20250807T133137Z
LAST-MODIFIED:20251118T172131Z
UID:3298-1760634000-1760641200@fortworthmba.org
SUMMARY:FWMBA HAPPY HOUR - 10/16
DESCRIPTION:Join Us for Happy Hour at Rogers Roadhouse!\nCome grab a drink\, connect with fellow mortgage professionals\, and wind down the day with us at Rogers Roadhouse in Fort Worth. This is a great chance to network\, share ideas\, and enjoy some casual time together outside the office. \n📍 Location: Rogers Roadhouse\, Fort Worth\n📅 Date/Time: 10/16 5pm \nRegistration link coming soon—stay tuned! \n  \n\n 
URL:https://fortworthmba.org/event/fwmba-happy-hour-10-16/
LOCATION:Rogers Roundhouse\, 1616 Rogers Rd\, TX\, 76107\, United States
ATTACH;FMTTYPE=image/png:https://fortworthmba.org/wp-content/uploads/2025/08/October-HH-e1759326937817.png
ORGANIZER;CN="Fort Worth Mortgage Bankers Association":MAILTO:info@fortworthmba.org
END:VEVENT
END:VCALENDAR