BEGIN:VCALENDAR
VERSION:2.0
PRODID:-//Fort Worth Mortgage Bankers Association (FWMBA) - ECPv6.15.20//NONSGML v1.0//EN
CALSCALE:GREGORIAN
METHOD:PUBLISH
X-WR-CALNAME:Fort Worth Mortgage Bankers Association (FWMBA)
X-ORIGINAL-URL:https://fortworthmba.org
X-WR-CALDESC:Events for Fort Worth Mortgage Bankers Association (FWMBA)
REFRESH-INTERVAL;VALUE=DURATION:PT1H
X-Robots-Tag:noindex
X-PUBLISHED-TTL:PT1H
BEGIN:VTIMEZONE
TZID:America/Chicago
BEGIN:DAYLIGHT
TZOFFSETFROM:-0600
TZOFFSETTO:-0500
TZNAME:CDT
DTSTART:20240310T080000
END:DAYLIGHT
BEGIN:STANDARD
TZOFFSETFROM:-0500
TZOFFSETTO:-0600
TZNAME:CST
DTSTART:20241103T070000
END:STANDARD
BEGIN:DAYLIGHT
TZOFFSETFROM:-0600
TZOFFSETTO:-0500
TZNAME:CDT
DTSTART:20250309T080000
END:DAYLIGHT
BEGIN:STANDARD
TZOFFSETFROM:-0500
TZOFFSETTO:-0600
TZNAME:CST
DTSTART:20251102T070000
END:STANDARD
BEGIN:DAYLIGHT
TZOFFSETFROM:-0600
TZOFFSETTO:-0500
TZNAME:CDT
DTSTART:20260308T080000
END:DAYLIGHT
BEGIN:STANDARD
TZOFFSETFROM:-0500
TZOFFSETTO:-0600
TZNAME:CST
DTSTART:20261101T070000
END:STANDARD
END:VTIMEZONE
BEGIN:VEVENT
DTSTART;TZID=America/Chicago:20251008T113000
DTEND;TZID=America/Chicago:20251008T130000
DTSTAMP:20260424T113213
CREATED:20250807T132951Z
LAST-MODIFIED:20251014T133105Z
UID:3296-1759923000-1759928400@fortworthmba.org
SUMMARY:October Luncheon - 10/08
DESCRIPTION:We’re excited to welcome Matt Oliver\, Communications Manager at the Tarrant Regional Water District\, as our guest speaker. Matt will share insights on the future growth and development of Fort Worth\, highlighting the opportunities and challenges that will shape our community in the years ahead. \n  \nJoe T. Garcia’s \nDate: Wednesday\, October 8\, 2025 \nTime: 11:30 AM – 1:00 PM \n  \n🎟 Reserve your seat today \nMembers \nNon-Members \nPast Presidents \nEnjoy a delicious lunch\, connect with fellow community and business leaders\, and gain valuable perspective on Fort Worth’s next chapter.
URL:https://fortworthmba.org/event/october-luncheon-10-08/
LOCATION:Joe T Garcia’s\, 220 N Commerce St\, Fort Worth\, TX\, 76164\, United States
ATTACH;FMTTYPE=image/jpeg:https://fortworthmba.org/wp-content/uploads/2025/08/10.8.25-Luncheon.jpg
ORGANIZER;CN="Fort Worth Mortgage Bankers Association":MAILTO:info@fortworthmba.org
END:VEVENT
END:VCALENDAR